BEGIN:VCALENDAR
VERSION:2.0
PRODID:-//WomANDigital - ECPv6.3.6//NONSGML v1.0//EN
CALSCALE:GREGORIAN
METHOD:PUBLISH
X-WR-CALNAME:WomANDigital
X-ORIGINAL-URL:https://womandigital.es
X-WR-CALDESC:Eventos para WomANDigital
REFRESH-INTERVAL;VALUE=DURATION:PT1H
X-Robots-Tag:noindex
X-PUBLISHED-TTL:PT1H
BEGIN:VTIMEZONE
TZID:Europe/Madrid
BEGIN:DAYLIGHT
TZOFFSETFROM:+0100
TZOFFSETTO:+0200
TZNAME:CEST
DTSTART:20260329T010000
END:DAYLIGHT
BEGIN:STANDARD
TZOFFSETFROM:+0200
TZOFFSETTO:+0100
TZNAME:CET
DTSTART:20261025T010000
END:STANDARD
END:VTIMEZONE
BEGIN:VEVENT
DTSTART;TZID=Europe/Madrid:20260423T120000
DTEND;TZID=Europe/Madrid:20260423T173000
DTSTAMP:20260423T013548
CREATED:20260417T105107Z
LAST-MODIFIED:20260417T105107Z
UID:30236-1776945600-1776965400@womandigital.es
SUMMARY:Creciendo en la Era Digital
DESCRIPTION:Google y YouTube tienen el placer de invitarle a un evento presencial para debatir sobre cómo proteger\, respetar y empoderar a los niños y jóvenes en internet a medida que crecen. El evento tendrá lugar en nuestro Google Safety Engineering Center de Málaga\, España. \nEn Google y YouTube\, todo lo que hacemos para niños\, adolescentes y familias se crea para empoderar\, se diseña para respetar y se construye para proteger. Acompáñanos para tratar temas como la creación de productos adecuados para cada edad que se alineen con las etapas de desarrollo y las necesidades de los menores; el desarrollo de herramientas que den a las familias flexibilidad para gestionar su relación única con la tecnología; y la implementación de políticas\, protecciones y programas que ayuden a mantener a cada niño y adolescente más seguro en línea. Contaremos con la participación de instituciones\, colaboradores\, y organizaciones de la sociedad civil expertas en seguridad infantil\, escucharemos directamente a líderes y expertos de Google y YouTube\, así como a los propios jóvenes.
URL:https://womandigital.es/evento/creciendo-en-la-era-digital/
LOCATION:Google Safety Engineering Center\, Paseo de la Farola\, 6\, Málaga\, 29016\, España
END:VEVENT
END:VCALENDAR